BEGIN:VCALENDAR
VERSION:2.0
PRODID:-//kyohatsu//JP
CALSCALE:GREGORIAN
BEGIN:VEVENT
DTSTART;VALUE=DATE:20260701
SUMMARY:ヒロイン？聖女？いいえ、オールワークスメイドです（誇）！10
DESCRIPTION:あてきち TOブックス
UID:9784868540458@kyohatsu.lb-product.com
END:VEVENT
END:VCALENDAR
