BEGIN:VCALENDAR
VERSION:2.0
PRODID:-//kyohatsu//JP
CALSCALE:GREGORIAN
BEGIN:VEVENT
DTSTART;VALUE=DATE:20260617
SUMMARY:一途溺愛宣言〜悪役令嬢なのに無敵な彼から愛されまくり！？〜コミックアンソロジー（1）
DESCRIPTION:あすか編集部 KADOKAWA
UID:9784046602374@kyohatsu.lb-product.com
END:VEVENT
END:VCALENDAR
