BEGIN:VCALENDAR
VERSION:2.0
PRODID:-//kyohatsu//JP
CALSCALE:GREGORIAN
BEGIN:VEVENT
DTSTART;VALUE=DATE:20260626
SUMMARY:この恋、一旦持ち帰らせていただきます！　1
DESCRIPTION:あおと　響 KADOKAWA
UID:9784046602862@kyohatsu.lb-product.com
END:VEVENT
END:VCALENDAR
