BEGIN:VCALENDAR
VERSION:2.0
PRODID:-//kyohatsu//JP
CALSCALE:GREGORIAN
BEGIN:VEVENT
DTSTART;VALUE=DATE:20260616
SUMMARY:どろたん
DESCRIPTION:あいはら　ななえ 日本標準
UID:9784820807759@kyohatsu.lb-product.com
END:VEVENT
END:VCALENDAR
