BEGIN:VCALENDAR
VERSION:2.0
PRODID:-//kyohatsu//JP
CALSCALE:GREGORIAN
BEGIN:VEVENT
DTSTART;VALUE=DATE:20260617
SUMMARY:吟詠の友(41) 2025年度 日本コロムビア吟詠コンクール 優秀者 -練習用吟詠・伴奏付ー
DESCRIPTION:(伝統音楽) 日本コロムビア(株)
UID:4549767373072@kyohatsu.lb-product.com
END:VEVENT
END:VCALENDAR
