BEGIN:VCALENDAR
VERSION:2.0
PRODID:-//kyohatsu//JP
CALSCALE:GREGORIAN
BEGIN:VEVENT
DTSTART;VALUE=DATE:20260916
SUMMARY:【楽天ブックス限定先着特典+同時購入特典】『機動武闘伝Gガンダム』＋『新機動戦記ガンダムW』＋『機動新世紀ガンダムX』ORIGINAL SOUNDTRACK COLLECTION(アクリルキーホルダー×3個+アクリルブロック3種)
DESCRIPTION:(ヴァリアス・アーティスツ) (株)バンダイナムコミュージックライブ
UID:2100014936512@kyohatsu.lb-product.com
END:VEVENT
END:VCALENDAR
