BEGIN:VCALENDAR
VERSION:2.0
PRODID:-//kyohatsu//JP
CALSCALE:GREGORIAN
BEGIN:VEVENT
DTSTART;VALUE=DATE:20260828
SUMMARY:ミュージカル「忍たま乱太郎」第15弾 忍術学園 学園祭【Blu-ray】
DESCRIPTION:(ミュージカル) ミュージカル「忍たま乱太郎」製作委員会
UID:4550621524868@kyohatsu.lb-product.com
END:VEVENT
BEGIN:VEVENT
DTSTART;VALUE=DATE:20260828
SUMMARY:【楽天ブックス限定先着特典】ミュージカル「忍たま乱太郎」第15弾 忍術学園 学園祭【Blu-ray】(舞台写真L判ブロマイド（山田利吉・小松田秀作）)
DESCRIPTION:(ミュージカル) ミュージカル「忍たま乱太郎」製作委員会
UID:2100014781228@kyohatsu.lb-product.com
END:VEVENT
BEGIN:VEVENT
DTSTART;VALUE=DATE:20261030
SUMMARY:ミュージカル「忍たま乱太郎」第1弾リブート がんばれ六年生!【Blu-ray】
DESCRIPTION:(ミュージカル) ミュージカル「忍たま乱太郎」製作委員会
UID:4550621606762@kyohatsu.lb-product.com
END:VEVENT
BEGIN:VEVENT
DTSTART;VALUE=DATE:20261224
SUMMARY:ミュージカル「ヘタリア〜The World Concert〜」【Blu-ray】
DESCRIPTION:(ミュージカル) ミュージカル「ヘタリアWC」製作委員会
UID:4573687036168@kyohatsu.lb-product.com
END:VEVENT
END:VCALENDAR
