BEGIN:VCALENDAR
VERSION:2.0
PRODID:-//kyohatsu//JP
CALSCALE:GREGORIAN
BEGIN:VEVENT
DTSTART;VALUE=DATE:20260731
SUMMARY:美女と男たちの事件簿シリーズ2(昭和の名作ライブラリー 第184集)
DESCRIPTION:(ドラマ) ベストフィールド
UID:4571317715728@kyohatsu.lb-product.com
END:VEVENT
BEGIN:VEVENT
DTSTART;VALUE=DATE:20260909
SUMMARY:Gメン'75 全話HDリマスターBlu-ray BOX 1976年編【Blu-ray】
DESCRIPTION:(ドラマ) 東映ビデオ(株)
UID:4988101234158@kyohatsu.lb-product.com
END:VEVENT
BEGIN:VEVENT
DTSTART;VALUE=DATE:20261111
SUMMARY:Gメン'75 全話HDリマスターBlu-ray BOX 1977年編【Blu-ray】
DESCRIPTION:(ドラマ) 東映ビデオ(株)
UID:4988101234165@kyohatsu.lb-product.com
END:VEVENT
BEGIN:VEVENT
DTSTART;VALUE=DATE:20270113
SUMMARY:Gメン'75 全話HDリマスターBlu-ray BOX 1978年編【Blu-ray】
DESCRIPTION:(ドラマ) 東映ビデオ(株)
UID:4988101234172@kyohatsu.lb-product.com
END:VEVENT
END:VCALENDAR
