BEGIN:VCALENDAR
VERSION:2.0
PRODID:-//kyohatsu//JP
CALSCALE:GREGORIAN
BEGIN:VEVENT
DTSTART;VALUE=DATE:20260617
SUMMARY:ケン・ラッセル - ザ・ミュージック・ラヴァー:ミュージック・アンド・イメージズ:ジ・アート・オブ・ブリテンズ・グレイテスト・フィルムメーカー
DESCRIPTION:(サウンドトラック) SOLID、CHERRY RED
UID:4526180760146@kyohatsu.lb-product.com
END:VEVENT
END:VCALENDAR
