BEGIN:VCALENDAR
VERSION:2.0
PRODID:-//kyohatsu//JP
CALSCALE:GREGORIAN
BEGIN:VEVENT
DTSTART;VALUE=DATE:20260610
SUMMARY:キングDVDカラオケHit4 Vol.243
DESCRIPTION:(カラオケ) キングレコード(株)
UID:4988003894955@kyohatsu.lb-product.com
END:VEVENT
BEGIN:VEVENT
DTSTART;VALUE=DATE:20260715
SUMMARY:キングDVDカラオケHit4 Vol.244
DESCRIPTION:(カラオケ) キングレコード(株)
UID:4988003895105@kyohatsu.lb-product.com
END:VEVENT
END:VCALENDAR
